BEGIN:VCALENDAR
VERSION:2.0
PRODID:-//AudioTheme 3.0.2
BEGIN:VEVENT
UID:urn:uuid:c91733a8-b12c-4ac5-9f64-b2e476896f28
URL:https://maryflower.com/shows/livelincoln-ctr-of-the-blocl/
DTSTART;VALUE=DATE:20260816
SUMMARY:Live@Lincoln Ctr. of the Block w/Pat Donohue and Leon Cotter
DESCRIPTION:Time TBD. Outdoor show on a beautiful street in Minneapolis.
LOCATION:Live @ Lincoln Center of the Block w/Leon Cotter\, details to follow\, Minneapolis\, MN
END:VEVENT
END:VCALENDAR
