BEGIN:VCALENDAR
VERSION:2.0
PRODID:-//AudioTheme 3.0.2
BEGIN:VEVENT
UID:urn:uuid:1c04a362-c9b2-455d-b457-801482e0f5e2
URL:https://maryflower.com/shows/mary-and-bbq-boys-at-house-concert-in-portland-milwaukee-or/
DTSTART;TZID=GMT:20240824T000000
SUMMARY:Mary and BBQ Boys at house concert in Portland (Milwaukee, OR)
DESCRIPTION:Tickets $25. Just show up!
LOCATION:House concert\, 12215 SE 38th Av\, Milwaukee\, OR
END:VEVENT
END:VCALENDAR
