BEGIN:VCALENDAR
VERSION:2.0
PRODID:-//AudioTheme 3.0.2
BEGIN:VEVENT
UID:urn:uuid:a22b74ee-b4c0-435b-b797-a6c3ec75a19a
URL:https://maryflower.com/shows/mary-and-the-bbq-boys-10/
DTSTART;TZID=GMT:20231213T000000
SUMMARY:Jo Bar
DESCRIPTION:Mary and the BBQ Boys
LOCATION:Jo Bar\, 715 NW 23rd\, Portland\, OR\, United States\, 97213
END:VEVENT
END:VCALENDAR
