BEGIN:VCALENDAR
VERSION:2.0
PRODID:-//AudioTheme 3.0.2
BEGIN:VEVENT
UID:urn:uuid:391c2d93-77eb-4fec-8631-a418e44d1d2c
URL:https://maryflower.com/shows/mary-and-the-bbq-boys-11/
DTSTART;TZID=GMT:20240710T000000
SUMMARY:Mary and the BBQ Boys
DESCRIPTION:Come for a meal and some great music.
LOCATION:Jo Bar\, 715 NW 23rd\, Portland\, OR\, United States\, 97213
END:VEVENT
END:VCALENDAR
