BEGIN:VCALENDAR
VERSION:2.0
PRODID:-//AudioTheme 3.0.2
BEGIN:VEVENT
UID:urn:uuid:4ba4a57e-d233-4476-8e2c-bcdff59d4a32
URL:https://maryflower.com/shows/mary-and-the-bbq-boys-5/
DTSTART;TZID=GMT:20220108T000000
SUMMARY:Mary and the BBQ Boys
LOCATION:Alberta St Pub\, 1036 NE Alberta\, Portland\, OR
END:VEVENT
END:VCALENDAR
