BEGIN:VCALENDAR
VERSION:2.0
PRODID:-//AudioTheme 3.0.2
BEGIN:VEVENT
UID:urn:uuid:20f5648d-5af8-4562-a8e9-9bee6c3f5a20
URL:https://maryflower.com/shows/mary-and-the-bbq-boys-7/
DTSTART;TZID=GMT:20220430T000000
SUMMARY:Mary and the BBQ Boys
LOCATION:Artichoke Music\, 2001 SE Powell Blvd\, Portland\, OR\, United States\, 97202
END:VEVENT
END:VCALENDAR
