BEGIN:VCALENDAR
VERSION:2.0
PRODID:-//AudioTheme 3.0.2
BEGIN:VEVENT
UID:urn:uuid:62967826-35c0-4518-8065-52df74ff1676
URL:https://maryflower.com/shows/mary-and-the-bbq-boys-8/
DTSTART;TZID=GMT:20220813T000000
SUMMARY:Mary and the BBQ Boys
DESCRIPTION:Earliest gig ever but great neighborhood experience.
LOCATION:Hollywood Farmers' Market\, 4420 NE Hancock\, Portland\, OR\, United States
END:VEVENT
END:VCALENDAR
