BEGIN:VCALENDAR
VERSION:2.0
PRODID:-//AudioTheme 3.0.2
BEGIN:VEVENT
UID:urn:uuid:6bdaf187-765c-4ded-b9e4-cd693864f016
URL:https://maryflower.com/shows/mary-and-the-bbq-boys-9/
DTSTART;TZID=GMT:20231104T000000
SUMMARY:Mary and the BBQ Boys
DESCRIPTION:Tickets: https://search.seatyourself.biz/webstore/accounts/portlandfolkmusic/buy-tix?landingMessageSeen=true&date=2023-11-04#evt=4D22D71353E1FEB61BA6D39A3B01834B&sc=2&sp=ANY&tab=select-seats
LOCATION:Southminster Presbyterian Church\, 1 SW Denney Rd\, Beaverton\, OR
END:VEVENT
END:VCALENDAR
