BEGIN:VCALENDAR
VERSION:2.0
PRODID:-//AudioTheme 3.0.2
BEGIN:VEVENT
UID:urn:uuid:3c44fac2-73a7-442a-a5f9-61d3d5884eb8
URL:https://maryflower.com/shows/mary-at-cathedral-park-jazz-festival-in-portland/
DTSTART;TZID=GMT:20230714T000000
SUMMARY:Mary solo at Cathedral Park Jazz Festival in Portland
LOCATION:Cathedral Park\, Under the St John's Bridge\, Portland\, OR
END:VEVENT
END:VCALENDAR
