BEGIN:VCALENDAR
VERSION:2.0
PRODID:-//AudioTheme 3.0.2
BEGIN:VEVENT
UID:urn:uuid:be7d4cee-ee61-40a6-8a08-285798d2ebea
URL:https://maryflower.com/shows/mary-hosts-student-concert/
DTSTART;TZID=GMT:20230108T000000
SUMMARY:Mary hosts Student Concert
DESCRIPTION:15 former and current adult guitar students of Mary will perform a Sun. afternoon show. Come see what they've all learned\, Open and free to the public.
LOCATION:Strum Guitars\, 1415 SE Stark\, Portland\, OR\, United States\, 97213
END:VEVENT
END:VCALENDAR
