BEGIN:VCALENDAR
VERSION:2.0
PRODID:-//AudioTheme 3.0.2
BEGIN:VEVENT
UID:urn:uuid:3b634608-c68c-437f-95b9-6eba7a72d899
URL:https://maryflower.com/shows/mary-in-la-with-sam-broussard-and-more/
DTSTART;TZID=GMT:20230524T000000
SUMMARY:Mary in Louisiana with Jane Vidrine and Sam Broussard
DESCRIPTION:Food at 7 PM\, Music at 8 PM
LOCATION:Whirlybird\, Opelousas\, LA
END:VEVENT
END:VCALENDAR
