BEGIN:VCALENDAR
VERSION:2.0
PRODID:-//AudioTheme 3.0.2
BEGIN:VEVENT
UID:urn:uuid:39fc1f42-9de3-4e6c-ab49-9a8af51ebf07
URL:https://maryflower.com/shows/mary-in-mill-city-or/
DTSTART;TZID=GMT:20221126T000000
SUMMARY:Mary in Mill City, OR
DESCRIPTION:Honored to be part of this series headed by radio host Ken Cartwright.
LOCATION:Stewart's Hall\, 158 SW Broadway\, Mill City\, OR
END:VEVENT
END:VCALENDAR
