BEGIN:VCALENDAR
VERSION:2.0
PRODID:-//AudioTheme 3.0.2
BEGIN:VEVENT
UID:urn:uuid:97b6f1b5-b435-4019-8949-5fbda8125719
URL:https://maryflower.com/shows/mary-plays-solo-at-flying-fish/
DTSTART;TZID=GMT:20221029T000000
SUMMARY:Mary plays solo at Flying Fish
DESCRIPTION:4:30-7:30 PM\,  Join me at one of the most popular dining spots in Portland.
LOCATION:Flying Fish\, 3004 E Burnside\, Portland\, OR
END:VEVENT
END:VCALENDAR
