BEGIN:VCALENDAR
VERSION:2.0
PRODID:-//AudioTheme 3.0.2
BEGIN:VEVENT
UID:urn:uuid:22c2d255-235e-46ef-900b-15e57750135c
URL:https://maryflower.com/shows/mary-plays-solo/
DTSTART;TZID=GMT:20241105T000000
SUMMARY:Mary plays solo
LOCATION:Lake Oswego Library\, 706 4th St\, Lake Oswego\, OR
END:VEVENT
END:VCALENDAR
