BEGIN:VCALENDAR
VERSION:2.0
PRODID:-//AudioTheme 3.0.2
BEGIN:VEVENT
UID:urn:uuid:5fa5350a-ee94-4248-a8b1-0d245b63f477
URL:https://maryflower.com/shows/mary-solo-and-w-the-bbq-boys/
DTSTART;TZID=GMT:20240323T000000
SUMMARY:Mary solo and w/The BBQ Boys
DESCRIPTION:Mary is happy to be a part of the Grand's celebration of Women's History Month.
LOCATION:Salem's Historic Grand Theater\, 187 High St NE\, Salem\, OR
END:VEVENT
END:VCALENDAR
