BEGIN:VCALENDAR
VERSION:2.0
PRODID:-//AudioTheme 3.0.2
BEGIN:VEVENT
UID:urn:uuid:d717566a-906d-47fa-94fa-088ae67486b2
URL:https://maryflower.com/shows/mary-solo-at-artichoke-music-2/
DTSTART;TZID=GMT:20240714T000000
SUMMARY:Mary Solo at Artichoke Music
LOCATION:Artichoke Music\, 2001 SE Powell Blvd\, Portland\, OR\, United States\, 97202
END:VEVENT
END:VCALENDAR
