BEGIN:VCALENDAR
VERSION:2.0
PRODID:-//AudioTheme 3.0.2
BEGIN:VEVENT
UID:urn:uuid:17b9f5d6-b819-4409-8e00-1f10678f6a74
URL:https://maryflower.com/shows/mary-solo-at-artichoke-music-3/
DTSTART;TZID=GMT:20241201T000000
SUMMARY:Mary Solo at Artichoke Music
DESCRIPTION:artichokemusic.org
LOCATION:Artichoke Music\, 2007 SE Powell\, Portland\, OR
END:VEVENT
END:VCALENDAR
