BEGIN:VCALENDAR
VERSION:2.0
PRODID:-//AudioTheme 3.0.2
BEGIN:VEVENT
UID:urn:uuid:04aa71f9-8e63-4ca9-bd55-503bf33e423a
URL:https://maryflower.com/shows/mary-solo-double-bill-with-true-norths-kristen-and-dan/
DTSTART;TZID=GMT:20240120T000000
SUMMARY:Mary solo/double bill with True North's Kristen and Dan
LOCATION:Artichoke Music\, 2001 SE Powell Blvd\, Portland\, OR\, United States\, 97202
END:VEVENT
END:VCALENDAR
