BEGIN:VCALENDAR
VERSION:2.0
PRODID:-//AudioTheme 3.0.2
BEGIN:VEVENT
UID:urn:uuid:9c2284cb-6903-4093-8e7d-d908e4c04e97
URL:https://maryflower.com/shows/mary-solo-making-good-noise-in-the-library/
DTSTART;TZID=GMT:20231105T000000
SUMMARY:Mary solo, making good noise in the library
DESCRIPTION:Free event
LOCATION:Lake Oswego Library\, 706 4th St\, Lake Oswego\, OR
END:VEVENT
END:VCALENDAR
