BEGIN:VCALENDAR
VERSION:2.0
PRODID:-//AudioTheme 3.0.2
BEGIN:VEVENT
UID:urn:uuid:9d6706fd-3ee5-4633-9d29-40d772d0ab57
URL:https://maryflower.com/shows/mary-tells-stories-and-plays-music/
DTSTART;TZID=GMT:20240207T000000
SUMMARY:First Unitarian Church
DESCRIPTION:Mary will tell stories and play some tunes. This is a free event for the Alliance group.
LOCATION:First Unitarian\, 1211 SW Main\, Portland\, OR\, 
END:VEVENT
END:VCALENDAR
