BEGIN:VCALENDAR
VERSION:2.0
PRODID:-//AudioTheme 3.0.2
BEGIN:VEVENT
UID:urn:uuid:8ad07600-a742-4ed5-955f-7b27deac59bc
URL:https://maryflower.com/shows/mary-w-bbq-boys/
DTSTART;TZID=GMT:20221130T000000
SUMMARY:Mary W/BBQ Boys
LOCATION:Jo Bar\, 715 NW 23rd\, Portland\, OR\, United States\, 97213
END:VEVENT
END:VCALENDAR
