BEGIN:VCALENDAR
VERSION:2.0
PRODID:-//AudioTheme 3.0.2
BEGIN:VEVENT
UID:urn:uuid:5c9c5337-8e42-4d92-bbd2-a0c5654244b9
URL:https://maryflower.com/shows/mary-w-doc-and-spud-in-astoria/
DTSTART;TZID=GMT:20220825T000000
SUMMARY:Mary w/Doc and Spud in Astoria
DESCRIPTION:Tickets at Brown Paper Tickets.
LOCATION:Kala\, 1017 Marine Dr\, Astoria\, OR
END:VEVENT
END:VCALENDAR
