BEGIN:VCALENDAR
VERSION:2.0
PRODID:-//AudioTheme 3.0.2
BEGIN:VEVENT
UID:urn:uuid:bffd6ec6-92bd-435d-a510-b954d29ba358
URL:https://maryflower.com/shows/mary-w-doc-stein-and-spud-siegel/
DTSTART;TZID=GMT:20240908T000000
SUMMARY:Mary w/Doc Stein and Spud Siegel on Bainbridge Island
LOCATION:Waterfront Park Community Ctr\, 402 Brien Dr\, Bainbridge Island\, WA
END:VEVENT
END:VCALENDAR
