BEGIN:VCALENDAR
VERSION:2.0
PRODID:-//AudioTheme 3.0.2
BEGIN:VEVENT
UID:urn:uuid:e52213e4-6b86-41f6-9f6e-c7b598eb0ccf
URL:https://maryflower.com/shows/mary-w-eric-lugosch-in-pt-townsend/
DTSTART;TZID=GMT:20221016T000000
SUMMARY:Mary w/Eric Lugosch in Pt Townsend
LOCATION:Palindrome\, 1893 Jacob Miller Rd.\, Port Townsend\, WA
END:VEVENT
END:VCALENDAR
