BEGIN:VCALENDAR
VERSION:2.0
PRODID:-//AudioTheme 3.0.2
BEGIN:VEVENT
UID:urn:uuid:58fe884c-18d1-4630-a0c8-f515dcffe694
URL:https://maryflower.com/shows/mary-w-jackstraw/
DTSTART;TZID=GMT:20231226T000000
SUMMARY:Mary w/Jackstraw!
DESCRIPTION:Mary  plays lap slide and guitar filling in for Jackstraw's Jon Neufeld  at this iconic Portland bar. 6-8 PM
LOCATION:Laurelthist Public House\, 2958 NE Glison\, Portland\, OR\, United States\, 97213
END:VEVENT
END:VCALENDAR
