BEGIN:VCALENDAR
VERSION:2.0
PRODID:-//AudioTheme 3.0.2
BEGIN:VEVENT
UID:urn:uuid:81c13716-4cdc-4ba2-874e-950b5371883a
URL:https://maryflower.com/shows/mary-w-kim-field-and-jesse-withers/
DTSTART;TZID=GMT:20220320T000000
SUMMARY:Mary w/harmonica great Kim Field and Jesse Withers on bass
LOCATION:Corkscrew Wine Bar\, 1665 SE Bybee Blvd\, Portland\, OR
END:VEVENT
END:VCALENDAR
