BEGIN:VCALENDAR
VERSION:2.0
PRODID:-//AudioTheme 3.0.2
BEGIN:VEVENT
UID:urn:uuid:58318133-cf02-4b09-a893-4bf7a5140b3b
URL:https://maryflower.com/shows/mary-w-lloyd-jones/
DTSTART;TZID=GMT:20220401T000000
SUMMARY:Mary w/Lloyd Jones
DESCRIPTION:Perfect for April Fool's Day! Sharing some tunes with Lloyd. 
LOCATION:Artichoke Music\, 2001 SE Powell Blvd\, Portland\, OR\, United States\, 97202
END:VEVENT
END:VCALENDAR
