BEGIN:VCALENDAR
VERSION:2.0
PRODID:-//AudioTheme 3.0.2
BEGIN:VEVENT
UID:urn:uuid:c0ff4f72-d04e-4d27-aa45-9dd64aa0694c
URL:https://maryflower.com/shows/mary-w-portland-jazz-composers-ensemble/
DTSTART;TZID=GMT:20250829T000000
SUMMARY:Mary w/Portland Jazz Composers Ensemble
DESCRIPTION:PJCE featurig Mary Flower  at  12th Annual Montavilla Jazz Festival  KICK-OFF NIGHT!   Virtuoso Mary Flower meets PJCE’s 12-piece ensemble for a night of musical fusion where fingerstyle roots blossom into jazz band brilliance.
LOCATION:Alberta Rose Theater\, 3000 NE Alberta St\, Portland\, OR
END:VEVENT
END:VCALENDAR
