BEGIN:VCALENDAR
VERSION:2.0
PRODID:-//AudioTheme 3.0.2
BEGIN:VEVENT
UID:urn:uuid:b1e3d426-d6d6-47e8-8738-f2b5b8d6aa3d
URL:https://maryflower.com/shows/mary-w-sam-broussard-at-avogadros-in-ft-collins-co/
DTSTART;TZID=GMT:20240425T000000
SUMMARY:Mary w/Sam Broussard in Ft Collins, CO
LOCATION:Avogadro's Number\, Ft Collins\, CO\, United States
END:VEVENT
END:VCALENDAR
