BEGIN:VCALENDAR
VERSION:2.0
PRODID:-//AudioTheme 3.0.2
BEGIN:VEVENT
UID:urn:uuid:f6a1ad2a-8300-4f65-8d83-9c1d2638238a
URL:https://maryflower.com/shows/mary-w-sam-broussard-in-boulder-co/
DTSTART;TZID=GMT:20240426T000000
SUMMARY:Mary w/Sam Broussard in Boulder, CO
DESCRIPTION:Special guest Nick Forster will be joining us. Tickets $25.  
LOCATION:E-Town Cafe\, 1535 Spruce St\, Boulder\, CO
END:VEVENT
END:VCALENDAR
