BEGIN:VCALENDAR
VERSION:2.0
PRODID:-//AudioTheme 3.0.2
BEGIN:VEVENT
UID:urn:uuid:413270f9-55c3-4a95-a7de-b679b989eef0
URL:https://maryflower.com/shows/mary-w-spud-siegel-and-doc-stein/
DTSTART;TZID=GMT:20230909T000000
SUMMARY:Mary w/Spud Siegel and Doc Stein @Kala in Astoria
LOCATION:Kala\, 1017 Marine Dr\, Astoria\, OR
END:VEVENT
END:VCALENDAR
