BEGIN:VCALENDAR
VERSION:2.0
PRODID:-//AudioTheme 3.0.2
BEGIN:VEVENT
UID:urn:uuid:0862b5ad-6c13-4988-91b9-0c4332dd3f95
URL:https://maryflower.com/shows/marybbq-boys-at-hollywood-farmers-mkt/
DTSTART;TZID=GMT:20230624T000000
SUMMARY:Mary&BBQ Boys at Hollywood Farmers Mkt
LOCATION:Hollywood Farmers' Market\, 4420 NE Hancock\, Portland\, OR\, United States
END:VEVENT
END:VCALENDAR
