BEGIN:VCALENDAR
VERSION:2.0
PRODID:-//AudioTheme 3.0.2
BEGIN:VEVENT
UID:urn:uuid:1c1ee04b-3247-41bf-9f0f-1c3e088796be
URL:https://maryflower.com/shows/marybbq-boys-at-seaside-bluesjazz-festival/
DTSTART;TZID=GMT:20240316T000000
SUMMARY:Mary&BBQ Boys at Seaside Blues&Jazz Festival
DESCRIPTION:Mar 15-17\, https://www.seaside138.com/seasidejazzandblues  A cavalcade of fabulous players. Workshops also offered
LOCATION:Seaside Civic and Convention Center\, 415 1st Av\, Seaside\, OR
END:VEVENT
END:VCALENDAR
