BEGIN:VCALENDAR
VERSION:2.0
PRODID:-//AudioTheme 3.0.2
BEGIN:VEVENT
UID:urn:uuid:13c5c3aa-79e9-4dfe-807a-68f55527d26c
URL:https://maryflower.com/shows/marybbq-boys-at-the-hayloft-concert/
DTSTART;VALUE=DATE:20230811
SUMMARY:Mary&BBQ Boys at the Hayloft Concert in Salem
DESCRIPTION:Sharon Moore has been hosting this series for years. It is an actual hayloft!
LOCATION:Hayloft Series\, 5304 Center St NE\, Salem\, OR
END:VEVENT
END:VCALENDAR
