BEGIN:VCALENDAR
VERSION:2.0
PRODID:-//AudioTheme 3.0.2
BEGIN:VEVENT
UID:urn:uuid:9bfce1ab-7d0f-474d-ba53-9da279b1ab3f
URL:https://maryflower.com/shows/marys-hands-on-guitar-workshop-in-bellingham/
DTSTART;TZID=GMT:20221120T000000
SUMMARY:Mary's Hands' On Guitar Workshop in Bellingham
DESCRIPTION:For info email Dianne at 6stringirl@gmail.com
LOCATION:Bellingham\, WA House Concert\, North Bellingham\, Bellingham\, WA
END:VEVENT
END:VCALENDAR
