BEGIN:VCALENDAR
VERSION:2.0
PRODID:-//AudioTheme 3.0.2
BEGIN:VEVENT
UID:urn:uuid:b3f26c85-3368-4950-8491-f53da1b5ea3d
URL:https://maryflower.com/shows/marys-student-recital-at-mississippi-pizza/
DTSTART;TZID=GMT:20240107T000000
SUMMARY:Mary's Student Recital at Mississippi Pizza
DESCRIPTION:Past and present guitar students strut their stuff with one song each. There are some great players among the group and all have worked hard to reach their goals!
LOCATION:Mississippi Pizza\, 3552 N Mississippi Av\, Portland\, OR\, United States\, 97213
END:VEVENT
END:VCALENDAR
