BEGIN:VCALENDAR
VERSION:2.0
PRODID:-//AudioTheme 3.0.2
BEGIN:VEVENT
UID:urn:uuid:1bceca7a-9777-4b25-9a38-cab3966468df
URL:https://maryflower.com/shows/menuchas-blues-in-the-gorge-2/
DTSTART;TZID=GMT:20221005T000000
SUMMARY:Menucha's Blues in the Gorge w/me, Mamie Minch, Eric Lugosch and Hubby Jenkins
DESCRIPTION:Overlooking the beautiful Columbia River\, this wonderful in person gathering will bring some magic to your music. Details at www.menucha.org/programs/blues.  Oct 5-9\, 2022.
LOCATION:Menucha Retreat\, 38711 E Historic Columbia River Highway\, Corbett\, OR\, United States\, 97019
END:VEVENT
END:VCALENDAR
