BEGIN:VCALENDAR
VERSION:2.0
PRODID:-//AudioTheme 3.0.2
BEGIN:VEVENT
UID:urn:uuid:3db25b9e-9727-469c-a000-ce9abe940671
URL:https://maryflower.com/shows/menuchas-blues-in-the-gorge-3/
DTSTART;VALUE=DATE:20261007
SUMMARY:Menucha's Blues in the Gorge
DESCRIPTION:Oct 7-11  Mary is artistic director for this wonderful gathering of guitar enthusiasts. 2026 marks our 13th year. Instructors are Bill Kirchen\, Vance Gilbert\, Alvin Youngblood Hart and Mary!  CLasses\, jams and concerts.
LOCATION:Menucha Retreat\, 38711 E Historic Columbia River Highway\, Corbett\, OR\, United States\, 97019
END:VEVENT
END:VCALENDAR
