BEGIN:VCALENDAR
VERSION:2.0
PRODID:-//AudioTheme 3.0.2
BEGIN:VEVENT
UID:urn:uuid:c2607c0d-79f9-4f47-abfe-5680ca871e98
URL:https://maryflower.com/shows/midway-saloon-w-pat-donohue-and-leon-cotter/
DTSTART;TZID=GMT:20260812T000000
SUMMARY:Midway Saloon w/Pat Donohue and Leon Cotter
LOCATION:The Midway Saloon\, 1567 University Ave W\, St Paul\, MN
END:VEVENT
END:VCALENDAR
