BEGIN:VCALENDAR
VERSION:2.0
PRODID:-//AudioTheme 3.0.2
BEGIN:VEVENT
UID:urn:uuid:88d855ca-347a-4e60-b787-f11f0caad911
URL:https://maryflower.com/shows/millwood-private-guitar-camp/
DTSTART;VALUE=DATE:20240616
SUMMARY:Millwood, VA private guitar camp
DESCRIPTION:June 16-21 in the rolling hills of Virginia. 
LOCATION:Millwod Guitar Camp\, Millwood\,\, VA
END:VEVENT
END:VCALENDAR
