BEGIN:VCALENDAR
VERSION:2.0
PRODID:-//AudioTheme 3.0.2
BEGIN:VEVENT
UID:urn:uuid:bc86c0f7-2463-4556-b99f-acb1fa209c3b
URL:https://maryflower.com/shows/music-millenium-with-bbq-boys/
DTSTART;TZID=GMT:20230812T000000
SUMMARY:Music Millenium with BBQ Boys
DESCRIPTION:Free hot dogs and hamburgers and a party in the parking lot! 5-6 bands performing and we are 2-3:00 PM. Terry Currier celebrates his customers every year!
LOCATION:Music Millenium\, 3168 E Burnside\, Portland\, OR
END:VEVENT
END:VCALENDAR
