BEGIN:VCALENDAR
VERSION:2.0
PRODID:-//AudioTheme 3.0.2
BEGIN:VEVENT
UID:urn:uuid:4b8511d8-022c-44c5-a8ee-c6d117f53415
URL:https://maryflower.com/shows/music-my-mother-wouldnt-like/
DTSTART;VALUE=DATE:20241203
SUMMARY:Music My Mother Wouldn't Like
DESCRIPTION:Bruce Swan hosts this show (on Zoom and FB) that airs everywhere. I'll be doing a 45 min. set. www.musicmymotherwouldnot like.com
LOCATION:Music  My Mother Would Not Like\, Facebook\, Everywhere\, every state
END:VEVENT
END:VCALENDAR
