BEGIN:VCALENDAR
VERSION:2.0
PRODID:-//AudioTheme 3.0.2
BEGIN:VEVENT
UID:urn:uuid:ecd68c9e-ce73-4ae3-b464-8292f3c2bcb7
URL:https://maryflower.com/shows/new-traditions-in-olympia-wa-w-eric-lugosch/
DTSTART;TZID=GMT:20221014T000000
SUMMARY:New Traditions in Olympia WA w/Eric Lugosch
LOCATION:Traditions Fair Trade\, 300 5th Ave SW\, Olympia\, WA\, US
END:VEVENT
END:VCALENDAR
