BEGIN:VCALENDAR
VERSION:2.0
PRODID:-//AudioTheme 3.0.2
BEGIN:VEVENT
UID:urn:uuid:d2788645-8ba0-4a3e-8cf1-97de0cf10f2c
URL:https://maryflower.com/shows/open-tunings-guitar-workshop/
DTSTART;TZID=GMT:20240825T000000
SUMMARY:Hands On Open Tunings Guitar Workshop
DESCRIPTION:Sponsored by Portland FolkMusic Society   $50  All levels welcome  https://portlandfolkmusic.org/content.aspx?page_id=4002&club_id=748368&item_id=2278152&actr=3    
LOCATION:Reedwood Friends Church\, 2901 SE Steele St\, Portland\, OR\, United States\, 97202
END:VEVENT
END:VCALENDAR
