BEGIN:VCALENDAR
VERSION:2.0
PRODID:-//AudioTheme 3.0.2
BEGIN:VEVENT
UID:urn:uuid:76c01dd7-7987-4afb-a420-9c98d73eb898
URL:https://maryflower.com/shows/opening-for-dan-bern-at-the-old-church/
DTSTART;TZID=GMT:20231013T000000
SUMMARY:Opening for Dan Bern at The Old Church
LOCATION:The Old Church Concert Hall\, 1422 SW 11th\, Portland\, OR\, United States\, 97201
END:VEVENT
END:VCALENDAR
