BEGIN:VCALENDAR
VERSION:2.0
PRODID:-//AudioTheme 3.0.2
BEGIN:VEVENT
UID:urn:uuid:5f3be5d9-3b45-48c8-b1df-4834eab5216b
URL:https://maryflower.com/shows/opening-for-jane-sibbery/
DTSTART;TZID=GMT:20241121T000000
SUMMARY:Opening for Jane Siberry in CA
DESCRIPTION:SOLD OUT!  Jane Siberry is a Canadian legend. Don't miss her if at all possible!  Ticket link: https://www.seetickets.us/event/jane-siberry/612088
LOCATION:HopMonk Tavern\, 224 Vintage Way\, Navato\, CA
END:VEVENT
END:VCALENDAR
