BEGIN:VCALENDAR
VERSION:2.0
PRODID:-//AudioTheme 3.0.2
BEGIN:VEVENT
UID:urn:uuid:1d1c2424-50c4-416a-a7a3-95e29e1891d5
URL:https://maryflower.com/shows/ottawa-w-michael-jerome-browne-at-red-bird/
DTSTART;TZID=GMT:20240629T000000
SUMMARY:Ottawa w/Michael Jerome Browne at Red Bird
DESCRIPTION:Ticket link:  https://www.simpletix.com/e/michael-jerome-browne-and-mary-flower-tickets-170323
LOCATION:Red Bird\, 1165 Bank St\, Ottawa\, Ontario
END:VEVENT
END:VCALENDAR
