BEGIN:VCALENDAR
VERSION:2.0
PRODID:-//AudioTheme 3.0.2
BEGIN:VEVENT
UID:urn:uuid:9a5a5f94-ea7b-48c2-ac81-6bf315514ac1
URL:https://maryflower.com/shows/ourdoor-concert-in-st-paul-mn/
DTSTART;TZID=GMT:20240609T000000
SUMMARY:Live!@Lincoln Center of the Block, St Paul, MN
DESCRIPTION:Grab a chair\, some eats and drinks and sit back and enjoy some Live music!
LOCATION:Live!@Lincoln Center of the Block\, 829 Lincoln Av\, St Paul\, Minneapolis\, 55105
END:VEVENT
END:VCALENDAR
