BEGIN:VCALENDAR
VERSION:2.0
PRODID:-//AudioTheme 3.0.2
BEGIN:VEVENT
UID:urn:uuid:3c7acf66-703a-45b3-af7b-18b317378ed9
URL:https://maryflower.com/shows/papa-haydens-45th-anniversary-w-bbq-boys/
DTSTART;TZID=GMT:20231007T000000
SUMMARY:Papa Hayden's 45th Anniversary w/BBQ Boys
DESCRIPTION:Christopher Woitach and Cascade Zephyr will play first around 5:30 PM.
LOCATION:Papa Hayden's\, 5829 SE Milwaukee Av\, Portland\, OR\, United States
END:VEVENT
END:VCALENDAR
