BEGIN:VCALENDAR
VERSION:2.0
PRODID:-//AudioTheme 3.0.2
BEGIN:VEVENT
UID:urn:uuid:341096cd-0b84-4887-884b-7cc1baf52fb9
URL:https://maryflower.com/shows/peninsula-arts-center-2/
DTSTART;TZID=GMT:20220824T230000
SUMMARY:W/ Spud Siegel and Doc Stein
LOCATION:Peninsula Arts Center\, 504 Pacific Avenue North \, Long Beach\, WA\, United States
END:VEVENT
END:VCALENDAR
